BEGIN:VCALENDAR
VERSION:2.0
PRODID:-//Avrasya &Uuml;niversitesi - ECPv6.1.2.2//NONSGML v1.0//EN
CALSCALE:GREGORIAN
METHOD:PUBLISH
X-ORIGINAL-URL:https://avrasya.edu.tr
X-WR-CALDESC:Avrasya &Uuml;niversitesi için etkinlikler
REFRESH-INTERVAL;VALUE=DURATION:PT1H
X-Robots-Tag:noindex
X-PUBLISHED-TTL:PT1H
BEGIN:VTIMEZONE
TZID:Europe/Moscow
BEGIN:STANDARD
TZOFFSETFROM:+0300
TZOFFSETTO:+0300
TZNAME:MSK
DTSTART:20250101T000000
END:STANDARD
END:VTIMEZONE
BEGIN:VEVENT
DTSTART;TZID=Europe/Moscow:20251022T080000
DTEND;TZID=Europe/Moscow:20251024T170000
DTSTAMP:20260420T123420
CREATED:20251025T095027Z
LAST-MODIFIED:20251025T100119Z
UID:24547-1761120000-1761325200@avrasya.edu.tr
SUMMARY:Öğrenci Kulüpleri Tanıtım Günleri
DESCRIPTION:Öğrenci Kulüpleri Tanıtım Günleri Gerçekleşti\n\nAvrasya Üniversitesi Sağlık Kültür ve Spor Dairesi Başkanlığı tarafından organize edilen “Öğrenci Kulüpleri Tanıtım Günleri” etkinliği\, öğrencilerin yoğun ilgisiyle tamamlandı.\n22-24 Ekim 2025 tarihleri arasında Pelitli\, Yalıncak ve Yomra Yerleşkelerinde düzenlenen etkinliklerde\, Avrasya Üniversitesi bünyesinde faaliyet gösteren öğrenci kulüpleri stant açarak yeni üyeleriyle buluştu.\nÜniversitenin farklı fakülte ve bölümlerinden öğrencilerin katılım gösterdiği tanıtım günlerinde; kulüp temsilcileri yaptıkları çalışmalar hakkında bilgi verdi\, yeni dönem planlarını paylaştı ve üyelik başvurularını aldı.\nSosyal\, kültürel\, sanatsal ve sportif birçok alanda faaliyet gösteren kulüplerin yer aldığı etkinlikte öğrenciler; ilgi alanlarına uygun kulüplerle tanışma\, fikir alışverişinde bulunma ve kampüs yaşamına daha aktif katılma fırsatı buldu.\nAvrasya Üniversitesi\, öğrencilerinin sadece akademik değil\, sosyal yönden de gelişmelerini desteklemeye devam ediyor. Öğrenci kulüpleri aracılığıyla her yıl yüzlerce etkinliğe imza atan üniversite\, öğrencilerini üretmeye\, paylaşmaya ve birlikte hareket etmeye teşvik ediyor.\nPotansiyelini keşfetmenin tam zamanı!\nTüm öğrencilerimize etkinliğe gösterdikleri ilgiden dolayı teşekkür ediyor\, yeni dönemde aktif ve üretken bir kulüp yılı diliyoruz.\n\nÜniversitemizdeki kulüpler hakkında detaylı bilgi için: avrasya.edu.tr/ogrenci-kulupleri\n\nTarayıcınız video etiketini desteklemiyor.
URL:https://avrasya.edu.tr/event/ogrenci-kulupleri-tanitim-gunleri/
LOCATION:Avrasya Üniversitesi\, No: 125/1\, Rize Cd.\, Trabzon\, Trabzon\, 61030\, Türkiye
END:VEVENT
BEGIN:VEVENT
DTSTART;VALUE=DATE:20251023
DTEND;VALUE=DATE:20251024
DTSTAMP:20260420T123420
CREATED:20251024T105024Z
LAST-MODIFIED:20251025T095939Z
UID:24463-1761177600-1761263999@avrasya.edu.tr
SUMMARY:Kayropraktik Uygulamalarının Tanıtımı ve Klinik Yaklaşımlar Atölyesi
DESCRIPTION:Avrasya Üniversitesinde Kayropraktik Atölyesi \n  \nAvrasya Üniversitesi Sağlık Bilimleri Fakültesi Fizyoterapi ve Rehabilitasyon Bölümü tarafından “Kayropraktik Yaklaşımlar ve Klinik Uygulamalar” konulu bir atölye çalışması düzenlendi. Etkinlik\, öğrencilerin kas-iskelet sistemi rahatsızlıklarına yönelik manuel terapi tekniklerini bilimsel bir çerçevede öğrenmelerini ve uygulamalı becerilerini geliştirmelerini amaçladı. \nAtölye\, alanında Uzman Kayropraktist Taegyu Noh (William) katılımıyla gerçekleştirildi. Katılımcılara\, omurga hizalanması\, eklem mobilizasyonu\, postür analizi ve manuel manipülasyon teknikleri gibi kayropraktik uygulamaların teorik temelleri ve klinik kullanım alanları hakkında kapsamlı bilgiler verildi. Ardından\, eğitmenler eşliğinde uygulamalı seanslar yapılarak öğrencilerin bu teknikleri güvenli ve doğru biçimde deneyimlemeleri sağlandı. \nEtkinliğin açılış konuşmasını yapan Sağlık Bilimleri Fakültesinden Dr. Öğr. Üyesi Alper Perçin\, kayropraktik uygulamaların fizyoterapi biliminde tamamlayıcı bir yaklaşım olarak önem kazandığını vurguladı. Dr. Öğr. Üyesi Alper Perçin “Kas-iskelet sistemi bozukluklarının konservatif tedavisinde manuel terapi yöntemleri büyük bir yer tutmaktadır. Bu tür atölyeler\, öğrencilerimizin klinik yetkinliklerini artırmakta ve bilimsel bakış açılarını güçlendirmektedir.” dedi. \nKatılımcı öğrenciler\, atölye sonunda uygulamalı eğitim sürecini başarıyla tamamladılar. Avrasya Üniversitesi\, sağlık alanındaki yenilikçi ve uygulamalı eğitim faaliyetlerine devam ederek öğrencilerini bilimsel bilgiyle donanmış\, nitelikli sağlık profesyonelleri olarak yetiştirmeyi sürdürmektedir. \n  \nA workshop titled “Chiropractic Approaches and Clinical Applications” was organized by the Department of Physiotherapy and Rehabilitation\, Faculty of Health Sciences at Avrasya University. The event aimed to provide students with a scientific understanding of manual therapy techniques for musculoskeletal disorders and to enhance their hands-on clinical skills.\nThe workshop was conducted with the participation of Chiropractic Specialist Taegyu Noh (William). Participants received comprehensive information on the theoretical foundations and clinical implementations of chiropractic practices\, including spinal alignment\, joint mobilization\, posture analysis\, and manual manipulation techniques. Following the theoretical sessions\, practical applications were carried out under the supervision of instructors\, allowing students to safely and accurately practice these techniques.\nIn the opening speech\, Dr. Alper Perçin from the Faculty of Health Sciences emphasized the growing importance of chiropractic interventions as a complementary approach within physiotherapy. Dr. Perçin stated: “Manual therapy methods hold a significant place in the conservative treatment of musculoskeletal disorders. Workshops like this enhance our students’ clinical competencies and strengthen their scientific perspective.”\nAt the end of the workshop\, participating students successfully completed the practical training sessions. Avrasya University continues to support innovative and practice-oriented educational activities in the field of health sciences\, preparing its students to become well-equipped and highly qualified healthcare professionals.
URL:https://avrasya.edu.tr/event/kayropraktik-uygulamalarinin-tanitimi-ve-klinik-yaklasimlar-atolyesi-duzenlendi/
LOCATION:Avrasya Üniversitesi Ömer Yıldız Yerleşkesi\, No: 125/1\, Rize Cd.\, Trabzon\, Trabzon\, 61030\, Türkiye
END:VEVENT
BEGIN:VEVENT
DTSTART;VALUE=DATE:20251024
DTEND;VALUE=DATE:20251025
DTSTAMP:20260420T123420
CREATED:20251024T133945Z
LAST-MODIFIED:20251025T100042Z
UID:24507-1761264000-1761350399@avrasya.edu.tr
SUMMARY:2025-2026 Akademik Yılı Beyaz Önlük Giyme Töreni
DESCRIPTION:Avrasya Üniversitesi\, 2025-2026 akademik yılında üniversite eğitimine başlayan Hemşirelik\, Ebelik\, Fizyoterapi ve Rehabilitasyon\, Beslenme ve Diyetetik\, Odyoloji ve Ergoterapi Bölümleri öğrencilerine törenlerle beyaz önlüklerini giydirdi. Mesleğe ilk adımlarını atan öğrenciler\, düzenlenen etkinlikte büyük heyecan yaşadı.\nÖmer Yıldız Yerleşkesi Konferans Salonu’nda gerçekleşen törenlere Avrasya Üniversitesi Rektörü Prof. Dr. Mahir Kadakal\, Rektör Yardımcısı Prof. Dr. Yavuz Özoran\, Sağlık Hizmetleri Meslek Yüksekokulu Müdürü Dr. Öğr. Üyesi Eren Urtekin\, akademisyenler\, öğrenciler ve aileleri katıldı.\nRektör Prof. Dr. Mahir Kadakal\, törende yaptığı konuşmada “Beyaz önlük\, yalnızca bir giysi değil; bilgiye\, vicdana ve insanlığa adanmışlığın sembolüdür. Bu önlüğü giymek; bilimin ışığını\, etik değerleri ve insan sevgisini bir arada taşımak anlamına gelir. Bu yol\, sabır\, empati ve özveriyle yürünecek bir insanlık yolculuğudur. Bugün giydiğiniz bu beyaz önlük\, gelecekte edeceğiniz yeminlerin ve üstleneceğiniz sorumlulukların habercisidir. Onu taşırken bilimin rehberliğinden\, insan onuruna duyulan saygıdan ve etik değerlerden asla vazgeçmeyin.” dedi.\nRektör Yardımcısı\, Sağlık Bilimleri Fakülte Dekanı Prof. Dr. Yavuz Özoran ise\, beyaz önlüğün dürüstlük\, etik değerler ve insanlığa hizmetin simgesi olduğunu vurguladı.
URL:https://avrasya.edu.tr/event/2025-2026-akademik-yili-beyaz-onluk-giyme-toreni-gerceklestirildi/
LOCATION:Avrasya Üniversitesi Ömer Yıldız Yerleşkesi\, No: 125/1\, Rize Cd.\, Trabzon\, Trabzon\, 61030\, Türkiye
END:VEVENT
BEGIN:VEVENT
DTSTART;TZID=Europe/Moscow:20251027T130000
DTEND;TZID=Europe/Moscow:20251027T163000
DTSTAMP:20260420T123420
CREATED:20251025T095746Z
LAST-MODIFIED:20251028T094047Z
UID:24565-1761570000-1761582600@avrasya.edu.tr
SUMMARY:Dünya Ergoterapi Günü-Bir Dokunuş Yeter
DESCRIPTION:
URL:https://avrasya.edu.tr/event/dunya-ergoterapi-gunu-bir-dokunus-yeter/
LOCATION:Avrasya Üniversitesi Ömer Yıldız Yerleşkesi\, No: 125/1\, Rize Cd.\, Trabzon\, Trabzon\, 61030\, Türkiye
END:VEVENT
BEGIN:VEVENT
DTSTART;TZID=Europe/Moscow:20251028T103000
DTEND;TZID=Europe/Moscow:20251028T123000
DTSTAMP:20260420T123420
CREATED:20251027T130503Z
LAST-MODIFIED:20251028T092308Z
UID:24576-1761647400-1761654600@avrasya.edu.tr
SUMMARY:Cumhuriyet Bayramı Kutlama Töreni
DESCRIPTION:
URL:https://avrasya.edu.tr/event/cumhuriyet-bayrami-kutlama-toreni/
LOCATION:Avrasya Üniversitesi Ömer Yıldız Yerleşkesi\, No: 125/1\, Rize Cd.\, Trabzon\, Trabzon\, 61030\, Türkiye
ATTACH;FMTTYPE=image/jpeg:https://avrasya.edu.tr/wp-content/uploads/2025/10/29-ekim-cumhuriyet-bayrami-kutlama-toreni-2-1.jpg
END:VEVENT
END:VCALENDAR