BEGIN:VCALENDAR
VERSION:2.0
PRODID:-//Avrasya &Uuml;niversitesi - ECPv6.1.2.2//NONSGML v1.0//EN
CALSCALE:GREGORIAN
METHOD:PUBLISH
X-WR-CALNAME:Avrasya &Uuml;niversitesi
X-ORIGINAL-URL:https://avrasya.edu.tr
X-WR-CALDESC:Avrasya &Uuml;niversitesi için etkinlikler
REFRESH-INTERVAL;VALUE=DURATION:PT1H
X-Robots-Tag:noindex
X-PUBLISHED-TTL:PT1H
BEGIN:VTIMEZONE
TZID:Europe/Moscow
BEGIN:STANDARD
TZOFFSETFROM:+0300
TZOFFSETTO:+0300
TZNAME:MSK
DTSTART:20260101T000000
END:STANDARD
END:VTIMEZONE
BEGIN:VEVENT
DTSTART;TZID=Europe/Moscow:20260420T080000
DTEND;TZID=Europe/Moscow:20260424T170000
DTSTAMP:20260423T125127
CREATED:20260418T055503Z
LAST-MODIFIED:20260418T055617Z
UID:28913-1776672000-1777050000@avrasya.edu.tr
SUMMARY:Döngüsel Moda
DESCRIPTION:
URL:https://avrasya.edu.tr/event/dongusel-moda/
LOCATION:Avrasya Üniversitesi Pelitli Yerleşkesi\, Adnan Kahveci Mahallesi\, Rize Cd. No:226\, 61000 Merkez/Ortahisar/Trabzon\, trabzon\, trabzon\, 61000\, Türkiye
ATTACH;FMTTYPE=image/jpeg:https://avrasya.edu.tr/wp-content/uploads/2026/04/DONGUSEL-MODA-2.jpg
END:VEVENT
BEGIN:VEVENT
DTSTART;VALUE=DATE:20260421
DTEND;VALUE=DATE:20260519
DTSTAMP:20260423T125127
CREATED:20260422T143732Z
LAST-MODIFIED:20260422T143732Z
UID:29035-1776729600-1779148799@avrasya.edu.tr
SUMMARY:Kitap Toplama Kampanyası
DESCRIPTION:
URL:https://avrasya.edu.tr/event/kitap-toplama-kampanyasi/
ATTACH;FMTTYPE=image/jpeg:https://avrasya.edu.tr/wp-content/uploads/2026/04/8-MART-Etkinligi.jpg
END:VEVENT
END:VCALENDAR