BEGIN:VCALENDAR
VERSION:2.0
PRODID:-//Avrasya &Uuml;niversitesi - ECPv6.1.2.2//NONSGML v1.0//EN
CALSCALE:GREGORIAN
METHOD:PUBLISH
X-WR-CALNAME:Avrasya &Uuml;niversitesi
X-ORIGINAL-URL:https://avrasya.edu.tr
X-WR-CALDESC:Avrasya &Uuml;niversitesi için etkinlikler
REFRESH-INTERVAL;VALUE=DURATION:PT1H
X-Robots-Tag:noindex
X-PUBLISHED-TTL:PT1H
BEGIN:VTIMEZONE
TZID:Europe/Moscow
BEGIN:STANDARD
TZOFFSETFROM:+0300
TZOFFSETTO:+0300
TZNAME:MSK
DTSTART:20250101T000000
END:STANDARD
END:VTIMEZONE
BEGIN:VEVENT
DTSTART;TZID=Europe/Moscow:20251226T133000
DTEND;TZID=Europe/Moscow:20251226T143000
DTSTAMP:20260420T113013
CREATED:20251222T072529Z
LAST-MODIFIED:20251222T072529Z
UID:26328-1766755800-1766759400@avrasya.edu.tr
SUMMARY:Birbirimizi Anlayabiliyor Muyuz?
DESCRIPTION:
URL:https://avrasya.edu.tr/event/birbirimizi-anlayabiliyor-muyuz/
LOCATION:Avrasya Üniversitesi Pelitli Yerleşkesi\, Adnan Kahveci Mahallesi\, Rize Cd. No:226\, 61000 Merkez/Ortahisar/Trabzon\, trabzon\, trabzon\, 61000\, Türkiye
ATTACH;FMTTYPE=image/jpeg:https://avrasya.edu.tr/wp-content/uploads/2025/12/birbirimizi-anlayabiliyor-muyuz-1.jpg
END:VEVENT
END:VCALENDAR