BEGIN:VCALENDAR
VERSION:2.0
PRODID:-//Avrasya &Uuml;niversitesi - ECPv6.1.2.2//NONSGML v1.0//EN
CALSCALE:GREGORIAN
METHOD:PUBLISH
X-ORIGINAL-URL:https://avrasya.edu.tr
X-WR-CALDESC:Avrasya &Uuml;niversitesi için etkinlikler
REFRESH-INTERVAL;VALUE=DURATION:PT1H
X-Robots-Tag:noindex
X-PUBLISHED-TTL:PT1H
BEGIN:VTIMEZONE
TZID:Europe/Moscow
BEGIN:STANDARD
TZOFFSETFROM:+0300
TZOFFSETTO:+0300
TZNAME:MSK
DTSTART:20250101T000000
END:STANDARD
END:VTIMEZONE
BEGIN:VEVENT
DTSTART;TZID=Europe/Moscow:20251210T140000
DTEND;TZID=Europe/Moscow:20251210T150000
DTSTAMP:20260420T113240
CREATED:20251210T103445Z
LAST-MODIFIED:20251210T103445Z
UID:25833-1765375200-1765378800@avrasya.edu.tr
SUMMARY:Küresel Isınma ve Kutup Bölgeleri: Bilimsel Perspektif
DESCRIPTION:
URL:https://avrasya.edu.tr/event/kuresel-isinma-ve-kutup-bolgeleri-bilimsel-perspektif/
LOCATION:Avrasya Üniversitesi Ömer Yıldız Yerleşkesi\, No: 125/1\, Rize Cd.\, Trabzon\, Trabzon\, 61030\, Türkiye
ATTACH;FMTTYPE=image/jpeg:https://avrasya.edu.tr/wp-content/uploads/2025/12/Iklim-Degisikligi-ve-Artikteki-Hareketlilik.jpg
END:VEVENT
END:VCALENDAR