BEGIN:VCALENDAR
VERSION:2.0
PRODID:-//Avrasya &Uuml;niversitesi - ECPv6.1.2.2//NONSGML v1.0//EN
CALSCALE:GREGORIAN
METHOD:PUBLISH
X-ORIGINAL-URL:https://avrasya.edu.tr
X-WR-CALDESC:Avrasya &Uuml;niversitesi için etkinlikler
REFRESH-INTERVAL;VALUE=DURATION:PT1H
X-Robots-Tag:noindex
X-PUBLISHED-TTL:PT1H
BEGIN:VTIMEZONE
TZID:Europe/Moscow
BEGIN:STANDARD
TZOFFSETFROM:+0300
TZOFFSETTO:+0300
TZNAME:MSK
DTSTART:20250101T000000
END:STANDARD
END:VTIMEZONE
BEGIN:VEVENT
DTSTART;TZID=Europe/Moscow:20251205T090000
DTEND;TZID=Europe/Moscow:20251205T150000
DTSTAMP:20260420T113243
CREATED:20251203T112941Z
LAST-MODIFIED:20251203T112941Z
UID:25588-1764925200-1764946800@avrasya.edu.tr
SUMMARY:Geleceğe İz Bırakan Diş Teknisyenleri Bir Arada!
DESCRIPTION:
URL:https://avrasya.edu.tr/event/gelecege-iz-birakan-dis-teknisyenleri-bir-arada/
LOCATION:Avrasya Üniversitesi Ömer Yıldız Yerleşkesi\, No: 125/1\, Rize Cd.\, Trabzon\, Trabzon\, 61030\, Türkiye
ATTACH;FMTTYPE=image/jpeg:https://avrasya.edu.tr/wp-content/uploads/2025/12/dis-afis.jpg
END:VEVENT
END:VCALENDAR