BEGIN:VCALENDAR
VERSION:2.0
PRODID:-//Avrasya &Uuml;niversitesi - ECPv6.1.2.2//NONSGML v1.0//EN
CALSCALE:GREGORIAN
METHOD:PUBLISH
X-WR-CALNAME:Avrasya &Uuml;niversitesi
X-ORIGINAL-URL:https://avrasya.edu.tr
X-WR-CALDESC:Avrasya &Uuml;niversitesi için etkinlikler
REFRESH-INTERVAL;VALUE=DURATION:PT1H
X-Robots-Tag:noindex
X-PUBLISHED-TTL:PT1H
BEGIN:VTIMEZONE
TZID:Europe/Moscow
BEGIN:STANDARD
TZOFFSETFROM:+0300
TZOFFSETTO:+0300
TZNAME:MSK
DTSTART:20250101T000000
END:STANDARD
END:VTIMEZONE
BEGIN:VEVENT
DTSTART;TZID=Europe/Moscow:20251128T150000
DTEND;TZID=Europe/Moscow:20251128T170000
DTSTAMP:20260420T124755
CREATED:20251124T123602Z
LAST-MODIFIED:20251124T123724Z
UID:25456-1764342000-1764349200@avrasya.edu.tr
SUMMARY:Çevre Sürdürülebilir Yaşam Etkinliği
DESCRIPTION:
URL:https://avrasya.edu.tr/event/cevre-surdurulebilir-yasam-etkinligi/
LOCATION:Avrasya Üniversitesi Yomra Yerleşkesi
ATTACH;FMTTYPE=image/jpeg:https://avrasya.edu.tr/wp-content/uploads/2025/11/temizlikle-basla-bilincle-yay.jpg
END:VEVENT
END:VCALENDAR