BEGIN:VCALENDAR
VERSION:2.0
PRODID:-//Avrasya &Uuml;niversitesi - ECPv6.1.2.2//NONSGML v1.0//EN
CALSCALE:GREGORIAN
METHOD:PUBLISH
X-ORIGINAL-URL:https://avrasya.edu.tr
X-WR-CALDESC:Avrasya &Uuml;niversitesi için etkinlikler
REFRESH-INTERVAL;VALUE=DURATION:PT1H
X-Robots-Tag:noindex
X-PUBLISHED-TTL:PT1H
BEGIN:VTIMEZONE
TZID:Europe/Moscow
BEGIN:STANDARD
TZOFFSETFROM:+0300
TZOFFSETTO:+0300
TZNAME:MSK
DTSTART:20250101T000000
END:STANDARD
END:VTIMEZONE
BEGIN:VEVENT
DTSTART;TZID=Europe/Moscow:20251127T130000
DTEND;TZID=Europe/Moscow:20251127T150000
DTSTAMP:20260420T123510
CREATED:20251126T123117Z
LAST-MODIFIED:20251126T123117Z
UID:25477-1764248400-1764255600@avrasya.edu.tr
SUMMARY:Mühendislikte Yeni Eksen "Akıllı Ulaşım"
DESCRIPTION:
URL:https://avrasya.edu.tr/event/muhendislikte-yeni-eksen-akilli-ulasim/
LOCATION:Avrasya Üniversitesi Pelitli Yerleşkesi\, Adnan Kahveci Mahallesi\, Rize Cd. No:226\, 61000 Merkez/Ortahisar/Trabzon\, trabzon\, trabzon\, 61000\, Türkiye
ATTACH;FMTTYPE=image/jpeg:https://avrasya.edu.tr/wp-content/uploads/2025/11/AKILLI-ULASIM-SEMINERI.jpg
END:VEVENT
BEGIN:VEVENT
DTSTART;TZID=Europe/Moscow:20251127T140000
DTEND;TZID=Europe/Moscow:20251127T150000
DTSTAMP:20260420T123510
CREATED:20251126T114319Z
LAST-MODIFIED:20251126T114335Z
UID:25471-1764252000-1764255600@avrasya.edu.tr
SUMMARY:Kadına Yönelik Şiddete Karşı Uluslararası Mücadele Günü
DESCRIPTION:25 Kasım – Kadına Yönelik Şiddete Karşı Uluslararası Mücadele Günü \n  \n\nAvrasya Üniversitesi ev sahipliğinde; Kadın Araştırma ve Uygulama Merkezi\, Trabzon Aile ve Sosyal Hizmetler İl Müdürlüğü\, Karadeniz Teknik Üniversitesi\, Trabzon Üniversitesi ve KADEM iş birliğiyle Şiddete Karşı Hep Birlikte temalı “Kadına Yönelik Şiddete Karşı Akademiden Topluma Ortak Sorumluluk Paneli” kadına yönelik şiddetle mücadelede akademinin\, kurumların ve toplumun ortak sorumluluğunu konuşmak ve farkındalık oluşturmak üzere gerçekleştirilecektir.\n\nKonuk konuşmacımızlar:\n\nTolunay Bayraktar Kayacı\nDr. Öğr. Üyesi Güleycan Akgöz\nDoç. Dr. Seda Gayretli Aydın\nDr. Öğr. Üyesi Mehmet Emin Sardoğan\nÖğr. Görevlisi Ayşegül Aydınlı\n\n\nTarih: 27 Kasım 2025\nSaat: 14.00\nYer: Ömer Yıldız Yerleşkesi\, Yakupoğulları Konferans Salonu\n\nTüm öğrencilerimiz ve akademisyenlerimiz davetlidir.
URL:https://avrasya.edu.tr/event/kadina-yonelik-siddete-karsi-akademiden-topluma-ortak-sorumluluk-paneli/
LOCATION:Avrasya Üniversitesi Ömer Yıldız Yerleşkesi\, No: 125/1\, Rize Cd.\, Trabzon\, Trabzon\, 61030\, Türkiye
ATTACH;FMTTYPE=image/jpeg:https://avrasya.edu.tr/wp-content/uploads/2025/11/KADINA-SIDDETE-KARSI-AFIS.jpg
END:VEVENT
END:VCALENDAR