BEGIN:VCALENDAR
VERSION:2.0
PRODID:-//Avrasya &Uuml;niversitesi - ECPv6.1.2.2//NONSGML v1.0//EN
CALSCALE:GREGORIAN
METHOD:PUBLISH
X-WR-CALNAME:Avrasya &Uuml;niversitesi
X-ORIGINAL-URL:https://avrasya.edu.tr
X-WR-CALDESC:Avrasya &Uuml;niversitesi için etkinlikler
REFRESH-INTERVAL;VALUE=DURATION:PT1H
X-Robots-Tag:noindex
X-PUBLISHED-TTL:PT1H
BEGIN:VTIMEZONE
TZID:Europe/Moscow
BEGIN:STANDARD
TZOFFSETFROM:+0300
TZOFFSETTO:+0300
TZNAME:MSK
DTSTART:20250101T000000
END:STANDARD
END:VTIMEZONE
BEGIN:VEVENT
DTSTART;TZID=Europe/Moscow:20251125T120000
DTEND;TZID=Europe/Moscow:20251125T150000
DTSTAMP:20260420T123225
CREATED:20251124T123653Z
LAST-MODIFIED:20251124T123653Z
UID:25455-1764072000-1764082800@avrasya.edu.tr
SUMMARY:15. Güz Dönemi Kermesi
DESCRIPTION:
URL:https://avrasya.edu.tr/event/15-guz-donemi-kermesi/
LOCATION:Avrasya Üniversitesi Pelitli Yerleşkesi\, Adnan Kahveci Mahallesi\, Rize Cd. No:226\, 61000 Merkez/Ortahisar/Trabzon\, trabzon\, trabzon\, 61000\, Türkiye
ATTACH;FMTTYPE=image/jpeg:https://avrasya.edu.tr/wp-content/uploads/2025/11/ascilik-kermes.jpg
END:VEVENT
BEGIN:VEVENT
DTSTART;TZID=Europe/Moscow:20251125T133000
DTEND;TZID=Europe/Moscow:20251125T143000
DTSTAMP:20260420T123225
CREATED:20251124T120117Z
LAST-MODIFIED:20251124T122714Z
UID:25445-1764077400-1764081000@avrasya.edu.tr
SUMMARY:Kadın Güçlenmesi ve Girişimcilik Semineri
DESCRIPTION:25 Kasım – Kadına Yönelik Şiddete Karşı Uluslararası Mücadele GünüAvrasya Üniversitesi’nin 15. Yıl Kuruluş Etkinlikleri Kapsamında \n“Kadınların Kariyer Yolculuğu” semineri\, Avrasya Üniversitesi Kadın Girişimciler Kulübü\, Kadın Araştırma ve Uygulama Merkezi ve Teknoloji Transfer Ofisi iş birliğiyle; kadınların iş hayatında karşılaştığı zorluklar\, yönetimlerde kadın kotası\, girişimcilik fırsatları ve şiddetsiz yaşam hakkı farkındalığı çerçevesinde gerçekleştirilecektir. \nKOSGEB Trabzon İl Müdürü Sayın Hakan DEMİRCİ \n\nGirişimcilik ekosistemi ve destekler\nKadın girişimcilere yönelik fırsatlar\nEkonomik bağımsızlık ve güçlenmenin şiddetle mücadeledeki rolü\n\nTarih: 25 Kasım 2025Saat: 13:30Yer: Ömer Yıldız Yerleşkesi\, Konferans Salonu \nTüm öğrencilerimiz ve akademisyenlerimiz davetlidir.
URL:https://avrasya.edu.tr/event/25-kasimda-kadin-guclenmesi-ve-girisimcilik-semineri/
LOCATION:Avrasya Üniversitesi Ömer Yıldız Yerleşkesi\, No: 125/1\, Rize Cd.\, Trabzon\, Trabzon\, 61030\, Türkiye
ATTACH;FMTTYPE=image/jpeg:https://avrasya.edu.tr/wp-content/uploads/2025/11/kadinlarin-kariye-yolculugu.afis_.jpg
END:VEVENT
BEGIN:VEVENT
DTSTART;TZID=Europe/Moscow:20251125T183000
DTEND;TZID=Europe/Moscow:20251125T183000
DTSTAMP:20260420T123225
CREATED:20251030T122823Z
LAST-MODIFIED:20251030T122823Z
UID:24694-1764095400-1764095400@avrasya.edu.tr
SUMMARY:Bireyselleştirilmiş Eğitim Programı-Online Seminer
DESCRIPTION:
URL:https://avrasya.edu.tr/event/bireysellestirilmis-egitim-programi-online-seminer/
LOCATION:Online
ATTACH;FMTTYPE=image/jpeg:https://avrasya.edu.tr/wp-content/uploads/2025/10/BEP.jpg
END:VEVENT
END:VCALENDAR