BEGIN:VCALENDAR
VERSION:2.0
PRODID:-//Avrasya &Uuml;niversitesi - ECPv6.1.2.2//NONSGML v1.0//EN
CALSCALE:GREGORIAN
METHOD:PUBLISH
X-ORIGINAL-URL:https://avrasya.edu.tr
X-WR-CALDESC:Avrasya &Uuml;niversitesi için etkinlikler
REFRESH-INTERVAL;VALUE=DURATION:PT1H
X-Robots-Tag:noindex
X-PUBLISHED-TTL:PT1H
BEGIN:VTIMEZONE
TZID:Europe/Moscow
BEGIN:STANDARD
TZOFFSETFROM:+0300
TZOFFSETTO:+0300
TZNAME:MSK
DTSTART:20250101T000000
END:STANDARD
END:VTIMEZONE
BEGIN:VEVENT
DTSTART;TZID=Europe/Moscow:20251027T130000
DTEND;TZID=Europe/Moscow:20251027T163000
DTSTAMP:20260420T124934
CREATED:20251025T095746Z
LAST-MODIFIED:20251028T094047Z
UID:24565-1761570000-1761582600@avrasya.edu.tr
SUMMARY:Dünya Ergoterapi Günü-Bir Dokunuş Yeter
DESCRIPTION:
URL:https://avrasya.edu.tr/event/dunya-ergoterapi-gunu-bir-dokunus-yeter/
LOCATION:Avrasya Üniversitesi Ömer Yıldız Yerleşkesi\, No: 125/1\, Rize Cd.\, Trabzon\, Trabzon\, 61030\, Türkiye
END:VEVENT
END:VCALENDAR